BEGIN:VCALENDAR
VERSION:2.0
PRODID:-//Kent County Public Library//NONSGML v1.0//EN
METHOD:PUBLISH
BEGIN:VEVENT
DTSTART;TZID=America/New_York:20260428T110000
DTEND;TZID=America/New_York:20260428T113000
DTSTAMP:20260424T102229
CREATED:20260424T102229-14400
SUMMARY:Baby & Toddler Storytime
DESCRIPTION:Join us for books\, rhymes\, music\, and movement!

This interactive program helps adults and little ones connect while introducing early literacy skills. 

Ages 0 to 2

 
URL:kentcountypubliclibrary.digitalbranch.org/api/event_export_ics_controlle
LOCATION:CHES - Children's Area
UID:24437
END:VEVENT
END:VCALENDAR
