BEGIN:VCALENDAR
VERSION:2.0
PRODID:-//Kent County Public Library//NONSGML v1.0//EN
METHOD:PUBLISH
BEGIN:VEVENT
DTSTART;TZID=America/New_York:20260423T000000
DTEND;TZID=America/New_York:20260423T235959
DTSTAMP:20260422T095652
CREATED:20260422T095652-14400
SUMMARY:National Library Week 2026: Find Your Joy
DESCRIPTION:


National Library Week is an annual celebration highlighting the valuable role libraries\, librarians\, and library workers play in transforming lives and strengthening our communities.

In the...
URL:kentcountypubliclibrary.digitalbranch.org/api/event_export_ics_controlle
LOCATION:
UID:30984
END:VEVENT
END:VCALENDAR
