BEGIN:VCALENDAR
VERSION:2.0
PRODID:-//Kent County Public Library//NONSGML v1.0//EN
METHOD:PUBLISH
BEGIN:VEVENT
DTSTART;TZID=America/New_York:20260424T000000
DTEND;TZID=America/New_York:20260424T235959
DTSTAMP:20260423T102404
CREATED:20260423T102404-14400
SUMMARY:National Library Week 2026: Find Your Joy
DESCRIPTION:


National Library Week is an annual celebration highlighting the valuable role libraries\, librarians\, and library workers play in transforming lives and strengthening our communities.

In the...
URL:kentcountypubliclibrary.digitalbranch.org/api/event_export_ics_controlle
LOCATION:
UID:30985
END:VEVENT
END:VCALENDAR
