BEGIN:VCALENDAR
VERSION:2.0
PRODID:-//Kent County Public Library//NONSGML v1.0//EN
METHOD:PUBLISH
BEGIN:VEVENT
DTSTART;TZID=America/New_York:20260421T140000
DTEND;TZID=America/New_York:20260421T160000
DTSTAMP:20260420T104108
CREATED:20260420T104108-14400
SUMMARY:The Librarians - Award-Winning Documentary Screening
DESCRIPTION:Join KCPL's Executive Director Natalie Hagan at a special screening of the award-winning documentary The Librarians. Celebrate your freedom to read and explore the role librarians across the country...
URL:kentcountypubliclibrary.digitalbranch.org/api/event_export_ics_controlle
LOCATION:Main Meeting Room
UID:31028
END:VEVENT
END:VCALENDAR
