BEGIN:VCALENDAR
VERSION:2.0
PRODID:-//Kent County Public Library//NONSGML v1.0//EN
METHOD:PUBLISH
BEGIN:VEVENT
DTSTART;TZID=America/New_York:20260424T110000
DTEND;TZID=America/New_York:20260424T120000
DTSTAMP:20260422T100442
CREATED:20260422T100442-14400
SUMMARY:Homeschooler Hangout: Snack Around the World
DESCRIPTION:Have you ever wondered what kids around the world snack on? 

This is your chance to find out – and to try a variety of snacks!

At this global snacking extravaganza we'll explore treats\, learn fun...
URL:kentcountypubliclibrary.digitalbranch.org/api/event_export_ics_controlle
LOCATION:Main Meeting Room
UID:31029
END:VEVENT
END:VCALENDAR
