BEGIN:VCALENDAR
VERSION:2.0
PRODID:-//Kent County Public Library//NONSGML v1.0//EN
METHOD:PUBLISH
BEGIN:VEVENT
DTSTART;TZID=America/New_York:20260423T160000
DTEND;TZID=America/New_York:20260423T173000
DTSTAMP:20260423T101641
CREATED:20260423T101641-14400
SUMMARY:Joyful Writers: A Local Author Showcase
DESCRIPTION:Celebrate National Library Week at this joyful panel discussion with local authors!

Join writers Wendy Sand Eckel\, Aggie L. Jae\, Ken Linn\, Nancy Taylor Robson\, and Marianne Sade for conversation...
URL:kentcountypubliclibrary.digitalbranch.org/api/event_export_ics_controlle
LOCATION:Main Meeting Room
UID:31535
END:VEVENT
END:VCALENDAR
