BEGIN:VCALENDAR
VERSION:2.0
PRODID:-//Kent County Public Library//NONSGML v1.0//EN
METHOD:PUBLISH
BEGIN:VEVENT
DTSTART;TZID=America/New_York:20260425T100000
DTEND;TZID=America/New_York:20260425T160000
DTSTAMP:20260425T102308
CREATED:20260425T102308-14400
SUMMARY:KCPL at Wings of Spring
DESCRIPTION:Find KCPL at Rock Hall's Wings of Spring festival! We'll have osprey-themed crafts\, games for kids and adults\, and special books available for checkout.


Wings of Spring is a community event...
URL:kentcountypubliclibrary.digitalbranch.org/api/event_export_ics_controlle
LOCATION:
UID:31676
END:VEVENT
END:VCALENDAR
