BEGIN:VCALENDAR
VERSION:2.0
PRODID:-//Kent County Public Library//NONSGML v1.0//EN
METHOD:PUBLISH
BEGIN:VEVENT
DTSTART;TZID=America/New_York:20260425T090000
DTEND;TZID=America/New_York:20260425T130000
DTSTAMP:20260424T101317
CREATED:20260424T101317-14400
SUMMARY:Find the Friends of the Library at Chestertown's Earth Day Festival!
DESCRIPTION:Visit the Friends of the Library table at Chestertown's Earth Day Festival for free books and information about how you can become a Friend!

Full Event Details

Event Location\:
Park Row
Chestertown\, MD
URL:kentcountypubliclibrary.digitalbranch.org/api/event_export_ics_controlle
LOCATION:
UID:31677
END:VEVENT
END:VCALENDAR
